BEGIN:VCALENDAR
VERSION:2.0
PRODID:-//Morrinsville School - ECPv5.0.3.1//NONSGML v1.0//EN
CALSCALE:GREGORIAN
METHOD:PUBLISH
X-WR-CALNAME:Morrinsville School
X-ORIGINAL-URL:https://morrinsville.school.nz
X-WR-CALDESC:Events for Morrinsville School
BEGIN:VTIMEZONE
TZID:Pacific/Auckland
BEGIN:STANDARD
TZOFFSETFROM:+1300
TZOFFSETTO:+1200
TZNAME:NZST
DTSTART:20260404T140000
END:STANDARD
BEGIN:DAYLIGHT
TZOFFSETFROM:+1200
TZOFFSETTO:+1300
TZNAME:NZDT
DTSTART:20260926T140000
END:DAYLIGHT
END:VTIMEZONE
BEGIN:VEVENT
DTSTART;VALUE=DATE:20260420
DTEND;VALUE=DATE:20260421
DTSTAMP:20260422T120947
CREATED:20260108T211024Z
LAST-MODIFIED:20260108T211024Z
UID:2624-1776643200-1776729599@morrinsville.school.nz
SUMMARY:Term 2 Commences
DESCRIPTION:Term 2 commences. \n
URL:https://morrinsville.school.nz/event/term-2-commences/
END:VEVENT
END:VCALENDAR