BEGIN:VCALENDAR
VERSION:2.0
PRODID:-//Morrinsville School - ECPv5.0.3.1//NONSGML v1.0//EN
CALSCALE:GREGORIAN
METHOD:PUBLISH
X-WR-CALNAME:Morrinsville School
X-ORIGINAL-URL:https://morrinsville.school.nz
X-WR-CALDESC:Events for Morrinsville School
BEGIN:VTIMEZONE
TZID:Pacific/Auckland
BEGIN:STANDARD
TZOFFSETFROM:+1300
TZOFFSETTO:+1200
TZNAME:NZST
DTSTART:20260404T140000
END:STANDARD
BEGIN:DAYLIGHT
TZOFFSETFROM:+1200
TZOFFSETTO:+1300
TZNAME:NZDT
DTSTART:20260926T140000
END:DAYLIGHT
END:VTIMEZONE
BEGIN:VEVENT
DTSTART;TZID=Pacific/Auckland:20260227T100000
DTEND;TZID=Pacific/Auckland:20260227T143000
DTSTAMP:20260422T121859
CREATED:20260108T212219Z
LAST-MODIFIED:20260108T212219Z
UID:2636-1772186400-1772202600@morrinsville.school.nz
SUMMARY:Senior School Swimming Sports Postponement Day
DESCRIPTION:Senior School Swimming Sports Postponement Day. \n
URL:https://morrinsville.school.nz/event/senior-school-swimming-sports-postponement-day/
END:VEVENT
END:VCALENDAR