BEGIN:VCALENDAR
VERSION:2.0
PRODID:-//Morrinsville School - ECPv5.0.3.1//NONSGML v1.0//EN
CALSCALE:GREGORIAN
METHOD:PUBLISH
X-WR-CALNAME:Morrinsville School
X-ORIGINAL-URL:https://morrinsville.school.nz
X-WR-CALDESC:Events for Morrinsville School
BEGIN:VTIMEZONE
TZID:Pacific/Auckland
BEGIN:STANDARD
TZOFFSETFROM:+1300
TZOFFSETTO:+1200
TZNAME:NZST
DTSTART:20260404T140000
END:STANDARD
BEGIN:DAYLIGHT
TZOFFSETFROM:+1200
TZOFFSETTO:+1300
TZNAME:NZDT
DTSTART:20260926T140000
END:DAYLIGHT
END:VTIMEZONE
BEGIN:VEVENT
DTSTART;TZID=Pacific/Auckland:20260629T153000
DTEND;TZID=Pacific/Auckland:20260629T190000
DTSTAMP:20260423T033407
CREATED:20260422T235608Z
LAST-MODIFIED:20260422T235837Z
UID:2786-1782747000-1782759600@morrinsville.school.nz
SUMMARY:Mid Year Reporting
DESCRIPTION:Mid Year Reporting to Parents \nInterviews will be 10 minutes.  Booking forms will be sent home. \n
URL:https://morrinsville.school.nz/event/mid-year-reporting/
END:VEVENT
END:VCALENDAR